BEGIN:VCALENDAR
VERSION:2.0
PRODID:-//Greenbush - ECPv6.15.20//NONSGML v1.0//EN
CALSCALE:GREGORIAN
METHOD:PUBLISH
X-WR-CALNAME:Greenbush
X-ORIGINAL-URL:https://www.greenbush.org
X-WR-CALDESC:Events for Greenbush
REFRESH-INTERVAL;VALUE=DURATION:PT1H
X-Robots-Tag:noindex
X-PUBLISHED-TTL:PT1H
BEGIN:VTIMEZONE
TZID:America/Chicago
BEGIN:DAYLIGHT
TZOFFSETFROM:-0600
TZOFFSETTO:-0500
TZNAME:CDT
DTSTART:20250309T080000
END:DAYLIGHT
BEGIN:STANDARD
TZOFFSETFROM:-0500
TZOFFSETTO:-0600
TZNAME:CST
DTSTART:20251102T070000
END:STANDARD
BEGIN:DAYLIGHT
TZOFFSETFROM:-0600
TZOFFSETTO:-0500
TZNAME:CDT
DTSTART:20260308T080000
END:DAYLIGHT
BEGIN:STANDARD
TZOFFSETFROM:-0500
TZOFFSETTO:-0600
TZNAME:CST
DTSTART:20261101T070000
END:STANDARD
BEGIN:DAYLIGHT
TZOFFSETFROM:-0600
TZOFFSETTO:-0500
TZNAME:CDT
DTSTART:20270314T080000
END:DAYLIGHT
BEGIN:STANDARD
TZOFFSETFROM:-0500
TZOFFSETTO:-0600
TZNAME:CST
DTSTART:20271107T070000
END:STANDARD
END:VTIMEZONE
BEGIN:VEVENT
DTSTART;TZID=America/Chicago:20260324T153000
DTEND;TZID=America/Chicago:20260324T163000
DTSTAMP:20260424T040853
CREATED:20250912T230414Z
LAST-MODIFIED:20251002T124847Z
UID:30636-1774366200-1774369800@www.greenbush.org
SUMMARY:Special Education Teacher Forum - Zoom
DESCRIPTION:Register Here  \nThe Special Education Teacher Forum is a professional community designed to support teachers working with students with diverse needs. This forum provides a space to collaborate\, problem-solve\, work through IEPs\, and share strategies for creating inclusive\, supportive\, and effective learning environments. Sessions are held virtually on a monthly basis\, offering ongoing opportunities for connection and professional growth. \n \nLed by Heather O’Neal\, heather.oneal@greenbush.org and Shonda Anderson\, shonda.anderson@greenbush.org. \n \nCost:  FREE for all!
URL:https://www.greenbush.org/event/special-education-teacher-forum-zoom-6/
LOCATION:Virtual
CATEGORIES:Specialized Learning Services
END:VEVENT
END:VCALENDAR